Package: epivizrServer Version: 1.35.0 Command: rm -rf epivizrServer.buildbin-libdir && mkdir epivizrServer.buildbin-libdir && /Users/biocbuild/BBS/utils/build-universal.sh epivizrServer_1.35.0.tar.gz /Library/Frameworks/R.framework/Resources/bin/R epivizrServer.buildbin-libdir StartedAt: 2025-02-09 22:13:46 -0500 (Sun, 09 Feb 2025) EndedAt: 2025-02-09 22:13:48 -0500 (Sun, 09 Feb 2025) EllapsedTime: 2.0 seconds RetCode: 0 Status: OK PackageFile: epivizrServer_1.35.0.tgz PackageFileSize: 457 KiB