Package: epivizrServer Version: 1.35.0 Command: /Library/Frameworks/R.framework/Resources/bin/R CMD check --install=check:epivizrServer.install-out.txt --library=/Library/Frameworks/R.framework/Resources/library --no-vignettes --timings epivizrServer_1.35.0.tar.gz StartedAt: 2025-02-09 19:08:58 -0500 (Sun, 09 Feb 2025) EndedAt: 2025-02-09 19:09:11 -0500 (Sun, 09 Feb 2025) EllapsedTime: 12.2 seconds RetCode: 0 Status: WARNINGS CheckDir: epivizrServer.Rcheck Warnings: 1