Package: epivizrServer Version: 1.35.0 Command: rm -rf epivizrServer.buildbin-libdir && mkdir epivizrServer.buildbin-libdir && /Users/biocbuild/BBS/utils/build-universal.sh epivizrServer_1.35.0.tar.gz /Library/Frameworks/R.framework/Resources/bin/R epivizrServer.buildbin-libdir StartedAt: 2025-02-10 00:52:32 -0500 (Mon, 10 Feb 2025) EndedAt: 2025-02-10 00:52:39 -0500 (Mon, 10 Feb 2025) EllapsedTime: 6.9 seconds RetCode: 0 Status: OK PackageFile: epivizrServer_1.35.0.tgz PackageFileSize: 456.4 KiB