Package: epivizrServer Version: 1.35.0 Command: /home/biocbuild/bbs-3.21-bioc/R/bin/R CMD INSTALL epivizrServer StartedAt: 2025-02-12 15:04:53 -0500 (Wed, 12 Feb 2025) EndedAt: 2025-02-12 15:05:06 -0500 (Wed, 12 Feb 2025) EllapsedTime: 12.2 seconds RetCode: 0 Status: OK