Package: epivizrServer Version: 1.35.0 Command: rm -rf epivizrServer.buildbin-libdir && mkdir epivizrServer.buildbin-libdir && E:\biocbuild\bbs-3.21-bioc\R\bin\R.exe CMD INSTALL --build --library=epivizrServer.buildbin-libdir epivizrServer_1.35.0.tar.gz StartedAt: 2025-02-10 07:42:58 -0500 (Mon, 10 Feb 2025) EndedAt: 2025-02-10 07:43:22 -0500 (Mon, 10 Feb 2025) EllapsedTime: 23.7 seconds RetCode: 0 Status: OK PackageFile: epivizrServer_1.35.0.zip PackageFileSize: 459.3 KiB