Package: epivizrServer Version: 1.35.0 Command: E:\biocbuild\bbs-3.21-bioc\R\bin\R.exe CMD check --no-multiarch --install=check:epivizrServer.install-out.txt --library=E:\biocbuild\bbs-3.21-bioc\R\library --no-vignettes --timings epivizrServer_1.35.0.tar.gz StartedAt: 2025-02-10 00:55:45 -0500 (Mon, 10 Feb 2025) EndedAt: 2025-02-10 00:56:21 -0500 (Mon, 10 Feb 2025) EllapsedTime: 36.4 seconds RetCode: 0 Status: WARNINGS CheckDir: epivizrServer.Rcheck Warnings: 1