Package: epivizrStandalone Version: 1.35.0 Command: rm -rf epivizrStandalone.buildbin-libdir && mkdir epivizrStandalone.buildbin-libdir && /Users/biocbuild/BBS/utils/build-universal.sh epivizrStandalone_1.35.0.tar.gz /Library/Frameworks/R.framework/Resources/bin/R epivizrStandalone.buildbin-libdir StartedAt: 2025-02-09 22:13:47 -0500 (Sun, 09 Feb 2025) EndedAt: 2025-02-09 22:14:07 -0500 (Sun, 09 Feb 2025) EllapsedTime: 19.4 seconds RetCode: 0 Status: OK PackageFile: epivizrStandalone_1.35.0.tgz PackageFileSize: 296.4 KiB