Package: epivizrStandalone Version: 1.35.0 Command: /Library/Frameworks/R.framework/Resources/bin/R CMD build --keep-empty-dirs --no-resave-data epivizrStandalone StartedAt: 2025-02-09 16:16:59 -0500 (Sun, 09 Feb 2025) EndedAt: 2025-02-09 16:17:17 -0500 (Sun, 09 Feb 2025) EllapsedTime: 18.2 seconds RetCode: 0 Status: OK PackageFile: epivizrStandalone_1.35.0.tar.gz PackageFileSize: 266.6 KiB