Package: epivizrStandalone Version: 1.35.0 Command: rm -rf epivizrStandalone.buildbin-libdir && mkdir epivizrStandalone.buildbin-libdir && /Users/biocbuild/BBS/utils/build-universal.sh epivizrStandalone_1.35.0.tar.gz /Library/Frameworks/R.framework/Resources/bin/R epivizrStandalone.buildbin-libdir StartedAt: 2025-02-10 00:52:37 -0500 (Mon, 10 Feb 2025) EndedAt: 2025-02-10 00:53:37 -0500 (Mon, 10 Feb 2025) EllapsedTime: 59.2 seconds RetCode: 0 Status: OK PackageFile: epivizrStandalone_1.35.0.tgz PackageFileSize: 250.4 KiB