Package: epivizrStandalone Version: 1.35.0 Command: /Library/Frameworks/R.framework/Resources/bin/R CMD build --keep-empty-dirs --no-resave-data epivizrStandalone StartedAt: 2025-02-09 16:41:56 -0500 (Sun, 09 Feb 2025) EndedAt: 2025-02-09 16:42:43 -0500 (Sun, 09 Feb 2025) EllapsedTime: 46.8 seconds RetCode: 0 Status: OK PackageFile: epivizrStandalone_1.35.0.tar.gz PackageFileSize: 220 KiB