Package: epivizrStandalone Version: 1.35.0 Command: rm -rf epivizrStandalone.buildbin-libdir && mkdir epivizrStandalone.buildbin-libdir && E:\biocbuild\bbs-3.21-bioc\R\bin\R.exe CMD INSTALL --build --library=epivizrStandalone.buildbin-libdir epivizrStandalone_1.35.0.tar.gz StartedAt: 2025-02-10 07:43:00 -0500 (Mon, 10 Feb 2025) EndedAt: 2025-02-10 07:44:05 -0500 (Mon, 10 Feb 2025) EllapsedTime: 65.4 seconds RetCode: 0 Status: OK PackageFile: epivizrStandalone_1.35.0.zip PackageFileSize: 254.6 KiB