Package: epivizrStandalone Version: 1.35.0 Command: chmod a+r epivizrStandalone -R && E:\biocbuild\bbs-3.21-bioc\R\bin\R.exe CMD build --keep-empty-dirs --no-resave-data epivizrStandalone StartedAt: 2025-02-09 18:36:05 -0500 (Sun, 09 Feb 2025) EndedAt: 2025-02-09 18:37:08 -0500 (Sun, 09 Feb 2025) EllapsedTime: 63.0 seconds RetCode: 0 Status: OK PackageFile: epivizrStandalone_1.35.0.tar.gz PackageFileSize: 220.1 KiB