Package: erccdashboard Version: 1.41.0 Command: rm -rf erccdashboard.buildbin-libdir && mkdir erccdashboard.buildbin-libdir && /Users/biocbuild/BBS/utils/build-universal.sh erccdashboard_1.41.0.tar.gz /Library/Frameworks/R.framework/Resources/bin/R erccdashboard.buildbin-libdir StartedAt: 2025-02-12 22:19:00 -0500 (Wed, 12 Feb 2025) EndedAt: 2025-02-12 22:19:04 -0500 (Wed, 12 Feb 2025) EllapsedTime: 4.1 seconds RetCode: 0 Status: OK PackageFile: erccdashboard_1.41.0.tgz PackageFileSize: 2.666 MiB