Package: erccdashboard Version: 1.41.0 Command: /Library/Frameworks/R.framework/Resources/bin/R CMD INSTALL erccdashboard StartedAt: 2025-02-09 15:06:47 -0500 (Sun, 09 Feb 2025) EndedAt: 2025-02-09 15:06:49 -0500 (Sun, 09 Feb 2025) EllapsedTime: 2.8 seconds RetCode: 0 Status: OK