Package: erccdashboard Version: 1.41.0 Command: /home/biocbuild/R/R/bin/R CMD build --keep-empty-dirs --no-resave-data erccdashboard StartedAt: 2025-01-28 22:47:25 -0000 (Tue, 28 Jan 2025) EndedAt: 2025-01-28 22:48:30 -0000 (Tue, 28 Jan 2025) EllapsedTime: 65.0 seconds RetCode: 0 Status: OK PackageFile: erccdashboard_1.41.0.tar.gz PackageFileSize: 1.725 MiB