Package: erccdashboard Version: 1.41.0 Command: /home/biocbuild/R/R/bin/R CMD check --install=check:erccdashboard.install-out.txt --library=/home/biocbuild/R/R/site-library --no-vignettes --timings erccdashboard_1.41.0.tar.gz StartedAt: 2025-01-28 10:26:33 -0000 (Tue, 28 Jan 2025) EndedAt: 2025-01-28 10:28:20 -0000 (Tue, 28 Jan 2025) EllapsedTime: 107.1 seconds RetCode: 0 Status: OK CheckDir: erccdashboard.Rcheck Warnings: 0