Package: erccdashboard Version: 1.41.0 Command: /home/biocbuild/R/R/bin/R CMD INSTALL erccdashboard StartedAt: 2025-01-29 19:43:15 -0000 (Wed, 29 Jan 2025) EndedAt: 2025-01-29 19:43:25 -0000 (Wed, 29 Jan 2025) EllapsedTime: 10.4 seconds RetCode: 0 Status: OK