Package: erccdashboard Version: 1.41.0 Command: rm -rf erccdashboard.buildbin-libdir && mkdir erccdashboard.buildbin-libdir && /Users/biocbuild/BBS/utils/build-universal.sh erccdashboard_1.41.0.tar.gz /Library/Frameworks/R.framework/Resources/bin/R erccdashboard.buildbin-libdir StartedAt: 2025-02-13 00:35:50 -0500 (Thu, 13 Feb 2025) EndedAt: 2025-02-13 00:36:03 -0500 (Thu, 13 Feb 2025) EllapsedTime: 12.8 seconds RetCode: 0 Status: OK PackageFile: erccdashboard_1.41.0.tgz PackageFileSize: 2.653 MiB