Package: erccdashboard Version: 1.41.0 Command: chmod a+r erccdashboard -R && E:\biocbuild\bbs-3.21-bioc\R\bin\R.exe CMD build --keep-empty-dirs --no-resave-data erccdashboard StartedAt: 2025-02-09 18:37:07 -0500 (Sun, 09 Feb 2025) EndedAt: 2025-02-09 18:38:17 -0500 (Sun, 09 Feb 2025) EllapsedTime: 70.3 seconds RetCode: 0 Status: OK PackageFile: erccdashboard_1.41.0.tar.gz PackageFileSize: 1.676 MiB