Package: erccdashboard Version: 1.41.0 Command: E:\biocbuild\bbs-3.21-bioc\R\bin\R.exe CMD INSTALL erccdashboard StartedAt: 2025-02-09 15:33:04 -0500 (Sun, 09 Feb 2025) EndedAt: 2025-02-09 15:33:44 -0500 (Sun, 09 Feb 2025) EllapsedTime: 40.8 seconds RetCode: 0 Status: OK