Package: erma Version: 1.23.0 Command: /Library/Frameworks/R.framework/Resources/bin/R CMD build --keep-empty-dirs --no-resave-data erma StartedAt: 2025-02-09 16:17:11 -0500 (Sun, 09 Feb 2025) EndedAt: 2025-02-09 16:17:49 -0500 (Sun, 09 Feb 2025) EllapsedTime: 38.4 seconds RetCode: 0 Status: OK PackageFile: erma_1.23.0.tar.gz PackageFileSize: 198.1 MiB