Package: erma Version: 1.23.0 Command: /Library/Frameworks/R.framework/Resources/bin/R CMD INSTALL erma StartedAt: 2025-02-03 15:50:16 -0500 (Mon, 03 Feb 2025) EndedAt: 2025-02-03 15:50:35 -0500 (Mon, 03 Feb 2025) EllapsedTime: 19.4 seconds RetCode: 0 Status: OK