Package: erma Version: 1.23.0 Command: /home/biocbuild/R/R/bin/R CMD build --keep-empty-dirs --no-resave-data erma StartedAt: 2025-01-28 22:47:53 -0000 (Tue, 28 Jan 2025) EndedAt: 2025-01-28 22:50:04 -0000 (Tue, 28 Jan 2025) EllapsedTime: 131.1 seconds RetCode: 0 Status: OK PackageFile: erma_1.23.0.tar.gz PackageFileSize: 197.8 MiB