Package: erma Version: 1.23.0 Command: rm -rf erma.buildbin-libdir && mkdir erma.buildbin-libdir && /Users/biocbuild/BBS/utils/build-universal.sh erma_1.23.0.tar.gz /Library/Frameworks/R.framework/Resources/bin/R erma.buildbin-libdir StartedAt: 2025-02-04 00:33:26 -0500 (Tue, 04 Feb 2025) EndedAt: 2025-02-04 00:34:56 -0500 (Tue, 04 Feb 2025) EllapsedTime: 90.3 seconds RetCode: 0 Status: OK PackageFile: erma_1.23.0.tgz PackageFileSize: 198.5 MiB