Package: erma Version: 1.23.0 Command: /Library/Frameworks/R.framework/Resources/bin/R CMD build --keep-empty-dirs --no-resave-data erma StartedAt: 2025-02-03 16:43:46 -0500 (Mon, 03 Feb 2025) EndedAt: 2025-02-03 16:45:25 -0500 (Mon, 03 Feb 2025) EllapsedTime: 99.4 seconds RetCode: 0 Status: OK PackageFile: erma_1.23.0.tar.gz PackageFileSize: 198.1 MiB