Package: erma Version: 1.23.0 Command: /Library/Frameworks/R.framework/Resources/bin/R CMD check --install=check:erma.install-out.txt --library=/Library/Frameworks/R.framework/Resources/library --no-vignettes --timings erma_1.23.0.tar.gz StartedAt: 2025-02-03 20:25:37 -0500 (Mon, 03 Feb 2025) EndedAt: 2025-02-03 20:32:50 -0500 (Mon, 03 Feb 2025) EllapsedTime: 432.6 seconds RetCode: 0 Status: OK CheckDir: erma.Rcheck Warnings: 0