Package: erma Version: 1.23.0 Command: /home/biocbuild/bbs-3.21-bioc/R/bin/R CMD build --keep-empty-dirs --no-resave-data erma StartedAt: 2025-02-09 17:11:18 -0500 (Sun, 09 Feb 2025) EndedAt: 2025-02-09 17:12:55 -0500 (Sun, 09 Feb 2025) EllapsedTime: 96.2 seconds RetCode: 0 Status: OK PackageFile: erma_1.23.0.tar.gz PackageFileSize: 198 MiB