Package: erma Version: 1.23.0 Command: /home/biocbuild/bbs-3.21-bioc/R/bin/R CMD check --install=check:erma.install-out.txt --library=/home/biocbuild/bbs-3.21-bioc/R/site-library --timings erma_1.23.0.tar.gz StartedAt: 2025-02-03 22:18:08 -0500 (Mon, 03 Feb 2025) EndedAt: 2025-02-03 22:24:59 -0500 (Mon, 03 Feb 2025) EllapsedTime: 410.8 seconds RetCode: 0 Status: OK CheckDir: erma.Rcheck Warnings: 0