Package: erma Version: 1.23.0 Command: rm -rf erma.buildbin-libdir && mkdir erma.buildbin-libdir && E:\biocbuild\bbs-3.21-bioc\R\bin\R.exe CMD INSTALL --build --library=erma.buildbin-libdir erma_1.23.0.tar.gz StartedAt: 2025-02-10 07:43:09 -0500 (Mon, 10 Feb 2025) EndedAt: 2025-02-10 07:44:33 -0500 (Mon, 10 Feb 2025) EllapsedTime: 83.7 seconds RetCode: 0 Status: OK PackageFile: erma_1.23.0.zip PackageFileSize: 198.3 MiB