Package: erma Version: 1.23.0 Command: chmod a+r erma -R && E:\biocbuild\bbs-3.21-bioc\R\bin\R.exe CMD build --keep-empty-dirs --no-resave-data erma StartedAt: 2025-02-03 18:49:06 -0500 (Mon, 03 Feb 2025) EndedAt: 2025-02-03 18:51:12 -0500 (Mon, 03 Feb 2025) EllapsedTime: 126.9 seconds RetCode: 0 Status: OK PackageFile: erma_1.23.0.tar.gz PackageFileSize: 198 MiB