Package: esATAC Version: 1.29.0 Command: rm -rf esATAC.buildbin-libdir && mkdir esATAC.buildbin-libdir && /Users/biocbuild/BBS/utils/build-universal.sh esATAC_1.29.0.tar.gz /Library/Frameworks/R.framework/Resources/bin/R esATAC.buildbin-libdir StartedAt: 2025-02-09 22:13:50 -0500 (Sun, 09 Feb 2025) EndedAt: 2025-02-09 22:14:27 -0500 (Sun, 09 Feb 2025) EllapsedTime: 36.8 seconds RetCode: 0 Status: OK PackageFile: esATAC_1.29.0.tgz PackageFileSize: 8.168 MiB