Package: esATAC Version: 1.29.0 Command: /Library/Frameworks/R.framework/Resources/bin/R CMD build --keep-empty-dirs --no-resave-data esATAC StartedAt: 2025-02-09 16:17:14 -0500 (Sun, 09 Feb 2025) EndedAt: 2025-02-09 16:17:47 -0500 (Sun, 09 Feb 2025) EllapsedTime: 33.4 seconds RetCode: 0 Status: OK PackageFile: esATAC_1.29.0.tar.gz PackageFileSize: 9.863 MiB