Package: esATAC Version: 1.29.0 Command: /home/biocbuild/R/R/bin/R CMD INSTALL esATAC StartedAt: 2025-01-29 20:18:51 -0000 (Wed, 29 Jan 2025) EndedAt: 2025-01-29 20:21:00 -0000 (Wed, 29 Jan 2025) EllapsedTime: 129.5 seconds RetCode: 0 Status: OK