Package: esATAC Version: 1.29.0 Command: rm -rf esATAC.buildbin-libdir && mkdir esATAC.buildbin-libdir && /Users/biocbuild/BBS/utils/build-universal.sh esATAC_1.29.0.tar.gz /Library/Frameworks/R.framework/Resources/bin/R esATAC.buildbin-libdir StartedAt: 2025-02-10 00:52:44 -0500 (Mon, 10 Feb 2025) EndedAt: 2025-02-10 00:54:50 -0500 (Mon, 10 Feb 2025) EllapsedTime: 125.5 seconds RetCode: 0 Status: OK PackageFile: esATAC_1.29.0.tgz PackageFileSize: 8.173 MiB