Package: esATAC Version: 1.29.0 Command: /Library/Frameworks/R.framework/Resources/bin/R CMD INSTALL esATAC StartedAt: 2025-02-09 15:34:15 -0500 (Sun, 09 Feb 2025) EndedAt: 2025-02-09 15:36:14 -0500 (Sun, 09 Feb 2025) EllapsedTime: 118.5 seconds RetCode: 0 Status: OK