Package: esATAC Version: 1.29.0 Command: /home/biocbuild/bbs-3.21-bioc/R/bin/R CMD build --keep-empty-dirs --no-resave-data esATAC StartedAt: 2025-02-09 17:11:20 -0500 (Sun, 09 Feb 2025) EndedAt: 2025-02-09 17:12:53 -0500 (Sun, 09 Feb 2025) EllapsedTime: 92.1 seconds RetCode: 0 Status: OK PackageFile: esATAC_1.29.0.tar.gz PackageFileSize: 9.863 MiB