Package: esATAC Version: 1.29.0 Command: /home/biocbuild/bbs-3.21-bioc/R/bin/R CMD INSTALL esATAC StartedAt: 2025-02-09 15:58:31 -0500 (Sun, 09 Feb 2025) EndedAt: 2025-02-09 16:00:01 -0500 (Sun, 09 Feb 2025) EllapsedTime: 90.4 seconds RetCode: 0 Status: OK