Package: esATAC Version: 1.29.0 Command: chmod a+r esATAC -R && E:\biocbuild\bbs-3.21-bioc\R\bin\R.exe CMD build --keep-empty-dirs --no-resave-data esATAC StartedAt: 2025-02-09 18:37:09 -0500 (Sun, 09 Feb 2025) EndedAt: 2025-02-09 18:39:42 -0500 (Sun, 09 Feb 2025) EllapsedTime: 152.6 seconds RetCode: 0 Status: OK PackageFile: esATAC_1.29.0.tar.gz PackageFileSize: 9.863 MiB