Package: esATAC Version: 1.29.0 Command: E:\biocbuild\bbs-3.21-bioc\R\bin\R.exe CMD check --no-multiarch --install=check:esATAC.install-out.txt --library=E:\biocbuild\bbs-3.21-bioc\R\library --no-vignettes --timings esATAC_1.29.0.tar.gz StartedAt: 2025-02-10 00:56:44 -0500 (Mon, 10 Feb 2025) EndedAt: 2025-02-10 01:07:03 -0500 (Mon, 10 Feb 2025) EllapsedTime: 618.6 seconds RetCode: 0 Status: OK CheckDir: esATAC.Rcheck Warnings: 0