Package: escape Version: 2.3.0 Command: /Library/Frameworks/R.framework/Resources/bin/R CMD check --install=check:escape.install-out.txt --library=/Library/Frameworks/R.framework/Resources/library --no-vignettes --timings escape_2.3.0.tar.gz StartedAt: 2025-02-09 19:09:38 -0500 (Sun, 09 Feb 2025) EndedAt: 2025-02-09 19:12:11 -0500 (Sun, 09 Feb 2025) EllapsedTime: 152.8 seconds RetCode: 0 Status: OK CheckDir: escape.Rcheck Warnings: 0