Package: escape Version: 2.3.0 Command: /Library/Frameworks/R.framework/Resources/bin/R CMD INSTALL escape StartedAt: 2025-02-09 15:25:07 -0500 (Sun, 09 Feb 2025) EndedAt: 2025-02-09 15:25:25 -0500 (Sun, 09 Feb 2025) EllapsedTime: 17.5 seconds RetCode: 0 Status: OK