Package: escape Version: 2.3.0 Command: /home/biocbuild/R/R/bin/R CMD check --install=check:escape.install-out.txt --library=/home/biocbuild/R/R/site-library --no-vignettes --timings escape_2.3.0.tar.gz StartedAt: 2025-01-28 10:27:43 -0000 (Tue, 28 Jan 2025) EndedAt: 2025-01-28 10:36:53 -0000 (Tue, 28 Jan 2025) EllapsedTime: 549.6 seconds RetCode: 0 Status: OK CheckDir: escape.Rcheck Warnings: 0