Package: escape Version: 2.3.0 Command: /home/biocbuild/R/R/bin/R CMD INSTALL escape StartedAt: 2025-01-29 20:28:16 -0000 (Wed, 29 Jan 2025) EndedAt: 2025-01-29 20:29:16 -0000 (Wed, 29 Jan 2025) EllapsedTime: 60.0 seconds RetCode: 0 Status: OK