Package: escape Version: 2.3.0 Command: /Library/Frameworks/R.framework/Resources/bin/R CMD build --keep-empty-dirs --no-resave-data escape StartedAt: 2025-02-09 16:42:43 -0500 (Sun, 09 Feb 2025) EndedAt: 2025-02-09 16:44:13 -0500 (Sun, 09 Feb 2025) EllapsedTime: 90.2 seconds RetCode: 0 Status: OK PackageFile: escape_2.3.0.tar.gz PackageFileSize: 4 MiB