Package: escape Version: 2.3.0 Command: /home/biocbuild/bbs-3.21-bioc/R/bin/R CMD INSTALL escape StartedAt: 2025-02-03 16:02:26 -0500 (Mon, 03 Feb 2025) EndedAt: 2025-02-03 16:03:08 -0500 (Mon, 03 Feb 2025) EllapsedTime: 41.8 seconds RetCode: 0 Status: OK