Package: escape Version: 2.3.0 Command: rm -rf escape.buildbin-libdir && mkdir escape.buildbin-libdir && E:\biocbuild\bbs-3.21-bioc\R\bin\R.exe CMD INSTALL --build --library=escape.buildbin-libdir escape_2.3.0.tar.gz StartedAt: 2025-02-10 07:43:17 -0500 (Mon, 10 Feb 2025) EndedAt: 2025-02-10 07:44:18 -0500 (Mon, 10 Feb 2025) EllapsedTime: 61.1 seconds RetCode: 0 Status: OK PackageFile: escape_2.3.0.zip PackageFileSize: 867.7 KiB