Package: escape Version: 2.3.0 Command: chmod a+r escape -R && E:\biocbuild\bbs-3.21-bioc\R\bin\R.exe CMD build --keep-empty-dirs --no-resave-data escape StartedAt: 2025-02-03 18:49:21 -0500 (Mon, 03 Feb 2025) EndedAt: 2025-02-03 18:51:27 -0500 (Mon, 03 Feb 2025) EllapsedTime: 125.7 seconds RetCode: 0 Status: OK PackageFile: escape_2.3.0.tar.gz PackageFileSize: 3.089 MiB