Package: escape Version: 2.3.0 Command: E:\biocbuild\bbs-3.21-bioc\R\bin\R.exe CMD check --no-multiarch --install=check:escape.install-out.txt --library=E:\biocbuild\bbs-3.21-bioc\R\library --no-vignettes --timings escape_2.3.0.tar.gz StartedAt: 2025-02-10 00:57:08 -0500 (Mon, 10 Feb 2025) EndedAt: 2025-02-10 01:05:39 -0500 (Mon, 10 Feb 2025) EllapsedTime: 510.4 seconds RetCode: 0 Status: OK CheckDir: escape.Rcheck Warnings: 0