Package: esetVis Version: 1.33.0 Command: /Library/Frameworks/R.framework/Resources/bin/R CMD build --keep-empty-dirs --no-resave-data esetVis StartedAt: 2025-02-12 16:40:40 -0500 (Wed, 12 Feb 2025) EndedAt: 2025-02-12 16:42:18 -0500 (Wed, 12 Feb 2025) EllapsedTime: 98.1 seconds RetCode: 0 Status: OK PackageFile: esetVis_1.33.0.tar.gz PackageFileSize: 4.334 MiB