Package: esetVis Version: 1.33.0 Command: /home/biocbuild/bbs-3.21-bioc/R/bin/R CMD INSTALL esetVis StartedAt: 2025-02-09 15:31:15 -0500 (Sun, 09 Feb 2025) EndedAt: 2025-02-09 15:31:29 -0500 (Sun, 09 Feb 2025) EllapsedTime: 14.0 seconds RetCode: 0 Status: OK